BEGIN:VCALENDAR
VERSION:2.0
PRODID:-//Tukios.com/
BEGIN:VEVENT
UID:41d1bbb7-1671-4c51-8868-b1733f556df7@www.mohawkvalleyfunerals.com
DTSTAMP:20260421T201328Z
DTSTART:20260425T180000Z
DTEND:20260425T190000Z
SUMMARY:Celebration of Life
DESCRIPTION:
URL:https://www.mohawkvalleyfunerals.com/obituaries/robert-thomas
LOCATION:Ephratah Rod & Gun Club Sports 372 NY-67  Fort Plain NY 13339
GEO:43.0027275;-74.5108805
END:VEVENT
END:VCALENDAR